BEGIN:VCALENDAR
VERSION:2.0
PRODID:-//Scarsdale Coin - ECPv6.15.20//NONSGML v1.0//EN
CALSCALE:GREGORIAN
METHOD:PUBLISH
X-ORIGINAL-URL:https://scarsdalecoin.com
X-WR-CALDESC:Events for Scarsdale Coin
REFRESH-INTERVAL;VALUE=DURATION:PT1H
X-Robots-Tag:noindex
X-PUBLISHED-TTL:PT1H
BEGIN:VTIMEZONE
TZID:UTC
BEGIN:STANDARD
TZOFFSETFROM:+0000
TZOFFSETTO:+0000
TZNAME:UTC
DTSTART:20250101T000000
END:STANDARD
END:VTIMEZONE
BEGIN:VEVENT
DTSTART;TZID=UTC:20260606T100000
DTEND;TZID=UTC:20260606T150000
DTSTAMP:20260419T125240
CREATED:20251115T222112Z
LAST-MODIFIED:20251115T222112Z
UID:25845959-1780740000-1780758000@scarsdalecoin.com
SUMMARY:Allentown Bethlehem Coin Club Show
DESCRIPTION:This coin show will be held at the Schnecksville Fire Company Banquet Hall. Doors open to the public 10:00am through 3:00pm. 45 tables available \n 
URL:https://scarsdalecoin.com/event/allentown-bethlehem-coin-club-show/
LOCATION:Schnecksville Fire Company Banquet Hall\, 4550 Old Packhouse Rd\, Schnecksville\, PA\, 18078\, United States
CATEGORIES:Coin Shows
ATTACH;FMTTYPE=image/png:https://scarsdalecoin.com/wp-content/uploads/2024/05/Home-Scarsdale-Coin.png
END:VEVENT
END:VCALENDAR